BEGIN:VCALENDAR
VERSION:2.0
PRODID:-//Armdale Yacht Club - ECPv6.15.20//NONSGML v1.0//EN
CALSCALE:GREGORIAN
METHOD:PUBLISH
X-WR-CALNAME:Armdale Yacht Club
X-ORIGINAL-URL:https://armdaleyachtclub.ns.ca
X-WR-CALDESC:Events for Armdale Yacht Club
REFRESH-INTERVAL;VALUE=DURATION:PT1H
X-Robots-Tag:noindex
X-PUBLISHED-TTL:PT1H
BEGIN:VTIMEZONE
TZID:America/Halifax
BEGIN:DAYLIGHT
TZOFFSETFROM:-0400
TZOFFSETTO:-0300
TZNAME:ADT
DTSTART:20210314T060000
END:DAYLIGHT
BEGIN:STANDARD
TZOFFSETFROM:-0300
TZOFFSETTO:-0400
TZNAME:AST
DTSTART:20211107T050000
END:STANDARD
BEGIN:DAYLIGHT
TZOFFSETFROM:-0400
TZOFFSETTO:-0300
TZNAME:ADT
DTSTART:20220313T060000
END:DAYLIGHT
BEGIN:STANDARD
TZOFFSETFROM:-0300
TZOFFSETTO:-0400
TZNAME:AST
DTSTART:20221106T050000
END:STANDARD
BEGIN:DAYLIGHT
TZOFFSETFROM:-0400
TZOFFSETTO:-0300
TZNAME:ADT
DTSTART:20230312T060000
END:DAYLIGHT
BEGIN:STANDARD
TZOFFSETFROM:-0300
TZOFFSETTO:-0400
TZNAME:AST
DTSTART:20231105T050000
END:STANDARD
END:VTIMEZONE
BEGIN:VEVENT
DTSTART;TZID=America/Halifax:20220709T130000
DTEND;TZID=America/Halifax:20220709T170000
DTSTAMP:20260424T122000
CREATED:20220214T194124Z
LAST-MODIFIED:20220704T163919Z
UID:10000688-1657371600-1657386000@armdaleyachtclub.ns.ca
SUMMARY:Wrestle the Arm Regatta (AYC/RNSYS/SYC)
DESCRIPTION:Open PHRF Race \nStart at SYC\, Finish at AYC \nRace Details https://www.rnsys.com/race-schedule
URL:https://armdaleyachtclub.ns.ca/event/wrestle-the-arm-regatta-ayc-rnsys-syc/
CATEGORIES:Racing
END:VEVENT
END:VCALENDAR