BEGIN:VCALENDAR
VERSION:2.0
PRODID:-//Armdale Yacht Club - ECPv6.15.20//NONSGML v1.0//EN
CALSCALE:GREGORIAN
METHOD:PUBLISH
X-ORIGINAL-URL:https://armdaleyachtclub.ns.ca
X-WR-CALDESC:Events for Armdale Yacht Club
REFRESH-INTERVAL;VALUE=DURATION:PT1H
X-Robots-Tag:noindex
X-PUBLISHED-TTL:PT1H
BEGIN:VTIMEZONE
TZID:America/Halifax
BEGIN:DAYLIGHT
TZOFFSETFROM:-0400
TZOFFSETTO:-0300
TZNAME:ADT
DTSTART:20210314T060000
END:DAYLIGHT
BEGIN:STANDARD
TZOFFSETFROM:-0300
TZOFFSETTO:-0400
TZNAME:AST
DTSTART:20211107T050000
END:STANDARD
BEGIN:DAYLIGHT
TZOFFSETFROM:-0400
TZOFFSETTO:-0300
TZNAME:ADT
DTSTART:20220313T060000
END:DAYLIGHT
BEGIN:STANDARD
TZOFFSETFROM:-0300
TZOFFSETTO:-0400
TZNAME:AST
DTSTART:20221106T050000
END:STANDARD
BEGIN:DAYLIGHT
TZOFFSETFROM:-0400
TZOFFSETTO:-0300
TZNAME:ADT
DTSTART:20230312T060000
END:DAYLIGHT
BEGIN:STANDARD
TZOFFSETFROM:-0300
TZOFFSETTO:-0400
TZNAME:AST
DTSTART:20231105T050000
END:STANDARD
END:VTIMEZONE
BEGIN:VEVENT
DTSTART;TZID=America/Halifax:20220619T130000
DTEND;TZID=America/Halifax:20220619T170000
DTSTAMP:20260424T144425
CREATED:20220214T190210Z
LAST-MODIFIED:20220611T123442Z
UID:10000673-1655643600-1655658000@armdaleyachtclub.ns.ca
SUMMARY:One-Design Spring Cup
DESCRIPTION:Open One-Design Race
URL:https://armdaleyachtclub.ns.ca/event/one-design-spring-cup-2022-06-19/2022-06-19/
CATEGORIES:Racing
END:VEVENT
END:VCALENDAR