BEGIN:VCALENDAR
VERSION:2.0
PRODID:-//Armdale Yacht Club - ECPv6.15.20//NONSGML v1.0//EN
CALSCALE:GREGORIAN
METHOD:PUBLISH
X-ORIGINAL-URL:https://armdaleyachtclub.ns.ca
X-WR-CALDESC:Events for Armdale Yacht Club
REFRESH-INTERVAL;VALUE=DURATION:PT1H
X-Robots-Tag:noindex
X-PUBLISHED-TTL:PT1H
BEGIN:VTIMEZONE
TZID:America/Halifax
BEGIN:DAYLIGHT
TZOFFSETFROM:-0400
TZOFFSETTO:-0300
TZNAME:ADT
DTSTART:20210314T060000
END:DAYLIGHT
BEGIN:STANDARD
TZOFFSETFROM:-0300
TZOFFSETTO:-0400
TZNAME:AST
DTSTART:20211107T050000
END:STANDARD
BEGIN:DAYLIGHT
TZOFFSETFROM:-0400
TZOFFSETTO:-0300
TZNAME:ADT
DTSTART:20220313T060000
END:DAYLIGHT
BEGIN:STANDARD
TZOFFSETFROM:-0300
TZOFFSETTO:-0400
TZNAME:AST
DTSTART:20221106T050000
END:STANDARD
BEGIN:DAYLIGHT
TZOFFSETFROM:-0400
TZOFFSETTO:-0300
TZNAME:ADT
DTSTART:20230312T060000
END:DAYLIGHT
BEGIN:STANDARD
TZOFFSETFROM:-0300
TZOFFSETTO:-0400
TZNAME:AST
DTSTART:20231105T050000
END:STANDARD
END:VTIMEZONE
BEGIN:VEVENT
DTSTART;TZID=America/Halifax:20220803T181500
DTEND;TZID=America/Halifax:20220803T181500
DTSTAMP:20260424T094137
CREATED:20220214T190731Z
LAST-MODIFIED:20220426T120301Z
UID:10000680-1659550500-1659550500@armdaleyachtclub.ns.ca
SUMMARY:Wednesday Night Summer Race
DESCRIPTION:PHRF Race 6
URL:https://armdaleyachtclub.ns.ca/event/wednesday-night-summer-race-2022-08-03/
CATEGORIES:Racing
END:VEVENT
BEGIN:VEVENT
DTSTART;TZID=America/Halifax:20220804T181500
DTEND;TZID=America/Halifax:20220804T181500
DTSTAMP:20260424T094137
CREATED:20220214T191454Z
LAST-MODIFIED:20220426T120213Z
UID:10000686-1659636900-1659636900@armdaleyachtclub.ns.ca
SUMMARY:Thursday Night Summer Race
DESCRIPTION:One-Design Race 6
URL:https://armdaleyachtclub.ns.ca/event/thursday-night-summer-race-2022-08-04/
CATEGORIES:Racing
END:VEVENT
BEGIN:VEVENT
DTSTART;TZID=America/Halifax:20220810T130000
DTEND;TZID=America/Halifax:20220810T170000
DTSTAMP:20260424T094137
CREATED:20220214T194909Z
LAST-MODIFIED:20220214T194909Z
UID:10000692-1660136400-1660150800@armdaleyachtclub.ns.ca
SUMMARY:Chester Race Week
DESCRIPTION:Open PRHF Racing
URL:https://armdaleyachtclub.ns.ca/event/chester-race-week/2022-08-10/
CATEGORIES:Racing
END:VEVENT
BEGIN:VEVENT
DTSTART;TZID=America/Halifax:20220811T130000
DTEND;TZID=America/Halifax:20220811T170000
DTSTAMP:20260424T094137
CREATED:20220214T194909Z
LAST-MODIFIED:20220214T194909Z
UID:10000693-1660222800-1660237200@armdaleyachtclub.ns.ca
SUMMARY:Chester Race Week
DESCRIPTION:Open PRHF Racing
URL:https://armdaleyachtclub.ns.ca/event/chester-race-week/2022-08-11/
CATEGORIES:Racing
END:VEVENT
BEGIN:VEVENT
DTSTART;TZID=America/Halifax:20220812T130000
DTEND;TZID=America/Halifax:20220812T170000
DTSTAMP:20260424T094137
CREATED:20220214T194909Z
LAST-MODIFIED:20220214T194909Z
UID:10000694-1660309200-1660323600@armdaleyachtclub.ns.ca
SUMMARY:Chester Race Week
DESCRIPTION:Open PRHF Racing
URL:https://armdaleyachtclub.ns.ca/event/chester-race-week/2022-08-12/
CATEGORIES:Racing
END:VEVENT
BEGIN:VEVENT
DTSTART;TZID=America/Halifax:20220813T130000
DTEND;TZID=America/Halifax:20220813T170000
DTSTAMP:20260424T094137
CREATED:20220214T194909Z
LAST-MODIFIED:20220214T194909Z
UID:10000695-1660395600-1660410000@armdaleyachtclub.ns.ca
SUMMARY:Chester Race Week
DESCRIPTION:Open PRHF Racing
URL:https://armdaleyachtclub.ns.ca/event/chester-race-week/2022-08-13/
CATEGORIES:Racing
END:VEVENT
BEGIN:VEVENT
DTSTART;TZID=America/Halifax:20220817T181500
DTEND;TZID=America/Halifax:20220817T181500
DTSTAMP:20260424T094137
CREATED:20220214T195058Z
LAST-MODIFIED:20220426T120107Z
UID:10000696-1660760100-1660760100@armdaleyachtclub.ns.ca
SUMMARY:Wednesday Night Fall Race
DESCRIPTION:PHRF Race 1
URL:https://armdaleyachtclub.ns.ca/event/wednesday-night-fall-race/
CATEGORIES:Racing
END:VEVENT
BEGIN:VEVENT
DTSTART;TZID=America/Halifax:20220818T181500
DTEND;TZID=America/Halifax:20220818T181500
DTSTAMP:20260424T094137
CREATED:20220214T195709Z
LAST-MODIFIED:20220426T120002Z
UID:10000702-1660846500-1660846500@armdaleyachtclub.ns.ca
SUMMARY:Thursday Night Fall Race
DESCRIPTION:One-Design Race 1
URL:https://armdaleyachtclub.ns.ca/event/thursday-night-fall-race/
CATEGORIES:Racing
END:VEVENT
BEGIN:VEVENT
DTSTART;TZID=America/Halifax:20220824T181500
DTEND;TZID=America/Halifax:20220824T181500
DTSTAMP:20260424T094137
CREATED:20220214T195058Z
LAST-MODIFIED:20220426T115853Z
UID:10000697-1661364900-1661364900@armdaleyachtclub.ns.ca
SUMMARY:Wednesday Night Fall Race
DESCRIPTION:PHRF Race 2
URL:https://armdaleyachtclub.ns.ca/event/wednesday-night-fall-race-2022-08-24/
CATEGORIES:Racing
END:VEVENT
BEGIN:VEVENT
DTSTART;TZID=America/Halifax:20220825T181500
DTEND;TZID=America/Halifax:20220825T181500
DTSTAMP:20260424T094137
CREATED:20220214T195709Z
LAST-MODIFIED:20220426T115755Z
UID:10000703-1661451300-1661451300@armdaleyachtclub.ns.ca
SUMMARY:Thursday Night Fall Race
DESCRIPTION:One-Design Race 2
URL:https://armdaleyachtclub.ns.ca/event/thursday-night-fall-race-2022-08-25/
CATEGORIES:Racing
END:VEVENT
BEGIN:VEVENT
DTSTART;TZID=America/Halifax:20220827T130000
DTEND;TZID=America/Halifax:20220827T170000
DTSTAMP:20260424T094137
CREATED:20220214T200644Z
LAST-MODIFIED:20220214T200644Z
UID:10000710-1661605200-1661619600@armdaleyachtclub.ns.ca
SUMMARY:One-Design Fall Cup
DESCRIPTION:Open One-Design Race
URL:https://armdaleyachtclub.ns.ca/event/one-design-fall-cup/2022-08-27/
CATEGORIES:Racing
END:VEVENT
BEGIN:VEVENT
DTSTART;TZID=America/Halifax:20220828T130000
DTEND;TZID=America/Halifax:20220828T170000
DTSTAMP:20260424T094137
CREATED:20220214T200409Z
LAST-MODIFIED:20220214T200512Z
UID:10000709-1661691600-1661706000@armdaleyachtclub.ns.ca
SUMMARY:Commodore's Cup
DESCRIPTION:PHRF Race Day 2
URL:https://armdaleyachtclub.ns.ca/event/commodores-cup-2022-08-28/
CATEGORIES:Racing
END:VEVENT
BEGIN:VEVENT
DTSTART;TZID=America/Halifax:20220828T130000
DTEND;TZID=America/Halifax:20220828T170000
DTSTAMP:20260424T094137
CREATED:20220214T200644Z
LAST-MODIFIED:20220214T200644Z
UID:10000711-1661691600-1661706000@armdaleyachtclub.ns.ca
SUMMARY:One-Design Fall Cup
DESCRIPTION:Open One-Design Race
URL:https://armdaleyachtclub.ns.ca/event/one-design-fall-cup/2022-08-28/
CATEGORIES:Racing
END:VEVENT
BEGIN:VEVENT
DTSTART;TZID=America/Halifax:20220831T181500
DTEND;TZID=America/Halifax:20220831T181500
DTSTAMP:20260424T094137
CREATED:20220214T195058Z
LAST-MODIFIED:20220426T115650Z
UID:10000698-1661969700-1661969700@armdaleyachtclub.ns.ca
SUMMARY:Wednesday Night Fall Race
DESCRIPTION:PHRF Race 3
URL:https://armdaleyachtclub.ns.ca/event/wednesday-night-fall-race-2022-08-31/
CATEGORIES:Racing
END:VEVENT
END:VCALENDAR